BEGIN:VCALENDAR
VERSION:2.0
PRODID:-//Deliverance Church Uganda Secretariat - ECPv6.14.0//NONSGML v1.0//EN
CALSCALE:GREGORIAN
METHOD:PUBLISH
X-WR-CALNAME:Deliverance Church Uganda Secretariat
X-ORIGINAL-URL:https://dcuganda.org
X-WR-CALDESC:Events for Deliverance Church Uganda Secretariat
REFRESH-INTERVAL;VALUE=DURATION:PT1H
X-Robots-Tag:noindex
X-PUBLISHED-TTL:PT1H
BEGIN:VTIMEZONE
TZID:UTC
BEGIN:STANDARD
TZOFFSETFROM:+0000
TZOFFSETTO:+0000
TZNAME:UTC
DTSTART:20240101T000000
END:STANDARD
END:VTIMEZONE
BEGIN:VEVENT
DTSTART;VALUE=DATE:20241213
DTEND;VALUE=DATE:20241216
DTSTAMP:20260421T212331
CREATED:20240919T113737Z
LAST-MODIFIED:20240919T113737Z
UID:24353-1734048000-1734307199@dcuganda.org
SUMMARY:Pastoral Visit Masaka \, Lwengo
DESCRIPTION:
URL:https://dcuganda.org/event/pastoral-visit-masaka-lwengo/
LOCATION:Greater Masaka\, Uganda
CATEGORIES:Pastoral Visit
END:VEVENT
END:VCALENDAR