BEGIN:VCALENDAR
VERSION:2.0
PRODID:-//Deliverance Church Uganda Secretariat - ECPv6.14.0//NONSGML v1.0//EN
CALSCALE:GREGORIAN
METHOD:PUBLISH
X-WR-CALNAME:Deliverance Church Uganda Secretariat
X-ORIGINAL-URL:https://dcuganda.org
X-WR-CALDESC:Events for Deliverance Church Uganda Secretariat
REFRESH-INTERVAL;VALUE=DURATION:PT1H
X-Robots-Tag:noindex
X-PUBLISHED-TTL:PT1H
BEGIN:VTIMEZONE
TZID:UTC
BEGIN:STANDARD
TZOFFSETFROM:+0000
TZOFFSETTO:+0000
TZNAME:UTC
DTSTART:20260101T000000
END:STANDARD
END:VTIMEZONE
BEGIN:VEVENT
DTSTART;VALUE=DATE:20260312
DTEND;VALUE=DATE:20260313
DTSTAMP:20260419T010239
CREATED:20260105T115644Z
LAST-MODIFIED:20260105T115644Z
UID:24785-1773273600-1773359999@dcuganda.org
SUMMARY:Review\, Edit & Launch of Discipleship Manual
DESCRIPTION:
URL:https://dcuganda.org/event/review-edit-launch-of-discipleship-manual/
LOCATION:Nsambya\, Uganda
CATEGORIES:Consultative Meeting,NPA
ORGANIZER;CN="DCU Secretariat":MAILTO:dcuganda@gmail.com
END:VEVENT
END:VCALENDAR