BEGIN:VCALENDAR
VERSION:2.0
PRODID:-//Deliverance Church Uganda Secretariat - ECPv6.14.0//NONSGML v1.0//EN
CALSCALE:GREGORIAN
METHOD:PUBLISH
X-ORIGINAL-URL:https://dcuganda.org
X-WR-CALDESC:Events for Deliverance Church Uganda Secretariat
REFRESH-INTERVAL;VALUE=DURATION:PT1H
X-Robots-Tag:noindex
X-PUBLISHED-TTL:PT1H
BEGIN:VTIMEZONE
TZID:UTC
BEGIN:STANDARD
TZOFFSETFROM:+0000
TZOFFSETTO:+0000
TZNAME:UTC
DTSTART:20260101T000000
END:STANDARD
END:VTIMEZONE
BEGIN:VEVENT
DTSTART;TZID=UTC:20260209T080000
DTEND;TZID=UTC:20260215T170000
DTSTAMP:20260419T175341
CREATED:20260105T105300Z
LAST-MODIFIED:20260105T105300Z
UID:24758-1770624000-1771174800@dcuganda.org
SUMMARY:Sebei Regional Pastoral Visit\, Workshop and Revival Service
DESCRIPTION:Nurture spiritual growth\, equip leaders\,\nand ignite renewed passion for ministry and\ncommunity transformation.
URL:https://dcuganda.org/event/sebei-regional-pastoral-visit-workshop-and-revival-service/
LOCATION:Sebei Region\, Uganda
CATEGORIES:Conference,Pastoral Visit
END:VEVENT
BEGIN:VEVENT
DTSTART;TZID=UTC:20260213T080000
DTEND;TZID=UTC:20260214T170000
DTSTAMP:20260419T175341
CREATED:20260105T105725Z
LAST-MODIFIED:20260105T105725Z
UID:24761-1770969600-1771088400@dcuganda.org
SUMMARY:Prayer Retreat
DESCRIPTION:To increase the prayer\, cover over the Ministry work across the Country.
URL:https://dcuganda.org/event/prayer-retreat/
LOCATION:TBD
END:VEVENT
BEGIN:VEVENT
DTSTART;TZID=UTC:20260214T080000
DTEND;TZID=UTC:20260214T170000
DTSTAMP:20260419T175341
CREATED:20260105T110008Z
LAST-MODIFIED:20260105T110008Z
UID:24764-1771056000-1771088400@dcuganda.org
SUMMARY:Camp Nehemiah
DESCRIPTION:
URL:https://dcuganda.org/event/camp-nehemiah/
LOCATION:Venue: TBD\, Uganda
CATEGORIES:Prayer
END:VEVENT
END:VCALENDAR