BEGIN:VCALENDAR
VERSION:2.0
PRODID:-//Deliverance Church Uganda Secretariat - ECPv6.14.0//NONSGML v1.0//EN
CALSCALE:GREGORIAN
METHOD:PUBLISH
X-ORIGINAL-URL:https://dcuganda.org
X-WR-CALDESC:Events for Deliverance Church Uganda Secretariat
REFRESH-INTERVAL;VALUE=DURATION:PT1H
X-Robots-Tag:noindex
X-PUBLISHED-TTL:PT1H
BEGIN:VTIMEZONE
TZID:UTC
BEGIN:STANDARD
TZOFFSETFROM:+0000
TZOFFSETTO:+0000
TZNAME:UTC
DTSTART:20260101T000000
END:STANDARD
END:VTIMEZONE
BEGIN:VEVENT
DTSTART;TZID=UTC:20260203T080000
DTEND;TZID=UTC:20260207T170000
DTSTAMP:20260419T180323
CREATED:20260105T104922Z
LAST-MODIFIED:20260105T104922Z
UID:24755-1770105600-1770483600@dcuganda.org
SUMMARY:Ordination of Elders and Pastors.
DESCRIPTION:Ordination and Retirement
URL:https://dcuganda.org/event/ordination-of-elders-and-pastors/
LOCATION:Northern Apostilic Base – Pabbo\, Gulu and Omoro\, Uganda
END:VEVENT
END:VCALENDAR