BEGIN:VCALENDAR
VERSION:2.0
PRODID:-//Deliverance Church Uganda Secretariat - ECPv6.14.0//NONSGML v1.0//EN
CALSCALE:GREGORIAN
METHOD:PUBLISH
X-ORIGINAL-URL:https://dcuganda.org
X-WR-CALDESC:Events for Deliverance Church Uganda Secretariat
REFRESH-INTERVAL;VALUE=DURATION:PT1H
X-Robots-Tag:noindex
X-PUBLISHED-TTL:PT1H
BEGIN:VTIMEZONE
TZID:UTC
BEGIN:STANDARD
TZOFFSETFROM:+0000
TZOFFSETTO:+0000
TZNAME:UTC
DTSTART:20260101T000000
END:STANDARD
END:VTIMEZONE
BEGIN:VEVENT
DTSTART;TZID=UTC:20260124T080000
DTEND;TZID=UTC:20260125T170000
DTSTAMP:20260419T155904
CREATED:20260105T102908Z
LAST-MODIFIED:20260105T102908Z
UID:24746-1769241600-1769360400@dcuganda.org
SUMMARY:TOT for Children’s Ministry Leaders.
DESCRIPTION:To Equip Church Leaders with Knowledge\nabout the ministry -Pastors\, Elders Deacons\nChildren Teachers)
URL:https://dcuganda.org/event/tot-for-childrens-ministry-leaders/
LOCATION:Busoga& Islands\, Bugembe\, Jinja\, Uganda
END:VEVENT
END:VCALENDAR