BEGIN:VCALENDAR
VERSION:2.0
PRODID:-//Deliverance Church Uganda Secretariat - ECPv6.14.0//NONSGML v1.0//EN
CALSCALE:GREGORIAN
METHOD:PUBLISH
X-ORIGINAL-URL:https://dcuganda.org
X-WR-CALDESC:Events for Deliverance Church Uganda Secretariat
REFRESH-INTERVAL;VALUE=DURATION:PT1H
X-Robots-Tag:noindex
X-PUBLISHED-TTL:PT1H
BEGIN:VTIMEZONE
TZID:Europe/Moscow
BEGIN:STANDARD
TZOFFSETFROM:+0300
TZOFFSETTO:+0300
TZNAME:MSK
DTSTART:20260101T000000
END:STANDARD
END:VTIMEZONE
BEGIN:VTIMEZONE
TZID:UTC
BEGIN:STANDARD
TZOFFSETFROM:+0000
TZOFFSETTO:+0000
TZNAME:UTC
DTSTART:20260101T000000
END:STANDARD
END:VTIMEZONE
BEGIN:VEVENT
DTSTART;VALUE=DATE:20260102
DTEND;VALUE=DATE:20260107
DTSTAMP:20260419T161543
CREATED:20260105T101422Z
LAST-MODIFIED:20260105T101500Z
UID:24738-1767312000-1767743999@dcuganda.org
SUMMARY:Break Camp
DESCRIPTION:Theme:ANOINTED📖 Luke 4:18 \nTarget Group:High School Students \nDates:2nd – 6th January 2026 \nVenue:Code High School\, Seeta–Bajjo \nCamp Fee:UGX 130\,000 only \nPayment Method:MTN MoMo \nPayment Number:0784 321 165 \nAccount Name:Vicky Adetat \nPayment Instruction:Indicate the name of the camper as the reason for payment (for easy follow-up). \nContact for Information:📞 +256 758 866 078 \nSocial Media:
URL:https://dcuganda.org/event/break-camp/
LOCATION:Code High School- Seeta\, Bbajjo\, Mukono\, Uganda
END:VEVENT
BEGIN:VEVENT
DTSTART;TZID=UTC:20260102T060000
DTEND;TZID=UTC:20260115T180000
DTSTAMP:20260419T161543
CREATED:20260105T093948Z
LAST-MODIFIED:20260105T093948Z
UID:24734-1767333600-1768500000@dcuganda.org
SUMMARY:14 Days of Prayer and Fasting
DESCRIPTION:14 Days of Prayer & Fasting – January 2–15\, 2026\nTheme: Keeping Jesus’ Agenda – “Do Business Till I Come” (Luke 19:13) \nAs we begin January 2026\, Deliverance Church Uganda (DCU) enters a sacred season of prayer and fasting\, calling every believer to renewed accountability\, faithfulness\, and stewardship before our Master\, Jesus Christ. \nIn obedience to Jesus’ instruction in Luke 18:1\, we choose to pray always and not lose heart\, especially during this critical period in the life of our nation. Our theme\, “Do Business Till I Come\,” is drawn from the Parable of the Ten Minas (Luke 19:11–30)\, where a nobleman entrusted his servants with resources and expected faithful productivity while he was away. \nIn the same way\, Christ has entrusted us with the Gospel\, spiritual gifts\, opportunities\, and influence to steward faithfully while He sits at the right hand of the Father\, awaiting His glorious return. As a Church\, we deliberately reject the napkin of fear\, complacency\, and laziness\, choosing instead to live productive\, purposeful\, and result-oriented lives that advance God’s Kingdom. \nThis prayer guide is designed to help us intentionally seek God’s involvement in the affairs of our nation—particularly during this season of heightened political activity. The Master’s mandate to “do business” becomes our rallying call for spiritual responsibility\, community transformation\, and Kingdom impact wherever God has positioned us in Uganda and beyond. \nThroughout these 14 days\, we will pray for: \n\n\nA renewed spirit of faithfulness and accountability \n\n\nExcellence in work and stewardship \n\n\nWisdom to maximize every God-given opportunity \n\n\nRighteous leadership and peaceful processes in our nation \n\n\nPrayer meetings will be held at every Deliverance Church Uganda local church\, ensuring that the entire DCU family stands together in unified intercession\, worship\, and fasting. \nOur collective goal is to be found as faithful stewards who have multiplied what was entrusted to them\, advancing Jesus’ Kingdom agenda in every sphere of life—family\, church\, marketplace\, governance\, and society. \nLet us move forward with renewed strength\, clarity of purpose\, and unwavering commitment\, ensuring that Jesus’ agenda remains central until He comes again.
URL:https://dcuganda.org/event/14-days-of-prayer-and-fasting-2/
END:VEVENT
END:VCALENDAR